BEGIN:VCALENDAR
VERSION:2.0
PRODID:-//AudioTheme 2.3.8
BEGIN:VEVENT
UID:urn:uuid:0efeca7b-8f10-4793-9c0a-f66880e76c61
URL:https://mitchmcvicker.com/concerts/gig-3195/
DTSTART;VALUE=DATE:20010310
SUMMARY:Green Acres Baptist Church
LOCATION:Green Acres Baptist Church\, Tyler\, TX
END:VEVENT
END:VCALENDAR
