BEGIN:VCALENDAR
VERSION:2.0
PRODID:-//AudioTheme 2.3.8
BEGIN:VEVENT
UID:urn:uuid:483b02b9-67df-4dc1-9227-4c396332669b
URL:https://mitchmcvicker.com/concerts/gig-3193/
DTSTART;VALUE=DATE:20010310
SUMMARY:Scroll Book Store
LOCATION:Scroll Book Store\, Tyler\, TX
END:VEVENT
END:VCALENDAR
