BEGIN:VCALENDAR
VERSION:2.0
PRODID:-//AudioTheme 2.3.8
BEGIN:VEVENT
UID:urn:uuid:7493b732-6933-4cdc-bfe2-4b1a77c675d7
URL:https://mitchmcvicker.com/concerts/gig-3191/
DTSTART;VALUE=DATE:20010309
SUMMARY:Park Cities Baptist Church
LOCATION:Park Cities Baptist Church\, Dallas\, TX
END:VEVENT
END:VCALENDAR
