BEGIN:VCALENDAR
VERSION:2.0
PRODID:-//AudioTheme 2.3.8
BEGIN:VEVENT
UID:urn:uuid:886e5765-b03f-495e-8776-a372f72d043d
URL:https://mitchmcvicker.com/concerts/gig-3187/
DTSTART;VALUE=DATE:20010225
SUMMARY:New Hope Lutheran Church
LOCATION:New Hope Lutheran Church\, Neenah\, WI
END:VEVENT
END:VCALENDAR
