BEGIN:VCALENDAR
VERSION:2.0
PRODID:-//AudioTheme 2.3.8
BEGIN:VEVENT
UID:urn:uuid:4e53cec1-05a8-4660-8bed-7ff568c66812
URL:https://mitchmcvicker.com/concerts/gig-3186/
DTSTART;VALUE=DATE:20010224
SUMMARY:Blind Munchies Coffeehouse
LOCATION:Blind Munchies Coffeehouse\, Menomonie\, WI
END:VEVENT
END:VCALENDAR
