BEGIN:VCALENDAR
VERSION:2.0
PRODID:-//AudioTheme 2.3.8
BEGIN:VEVENT
UID:urn:uuid:fffed23e-c065-4deb-955a-92e9032f0b9f
URL:https://mitchmcvicker.com/concerts/gig-3184/
DTSTART;VALUE=DATE:20010223
SUMMARY:St. Andrews Lutheran Church
LOCATION:St. Andrews Lutheran Church\, West Chicago\, IL
END:VEVENT
END:VCALENDAR
