BEGIN:VCALENDAR
VERSION:2.0
PRODID:-//AudioTheme 2.3.8
BEGIN:VEVENT
UID:urn:uuid:9cbc3902-282d-4332-b6f5-6430ebd2004a
URL:https://mitchmcvicker.com/concerts/gig-3176/
DTSTART;VALUE=DATE:20010202
SUMMARY:Park Cities Baptist Church-Blessed Are The Broken Retreat-
LOCATION:Park Cities Baptist Church-Blessed Are The Broken Retreat-\, Dallas\, TX
END:VEVENT
END:VCALENDAR
