BEGIN:VCALENDAR
VERSION:2.0
PRODID:-//AudioTheme 2.3.8
BEGIN:VEVENT
UID:urn:uuid:f7f0d1dd-54a6-4d3d-ac77-0a7ede851e04
URL:https://mitchmcvicker.com/concerts/gig-3172/
DTSTART;VALUE=DATE:20010127
SUMMARY:Wade Baptist Church
LOCATION:Wade Baptist Church\, Moss Point\, MS
END:VEVENT
END:VCALENDAR
