BEGIN:VCALENDAR
VERSION:2.0
PRODID:-//AudioTheme 2.3.8
BEGIN:VEVENT
UID:urn:uuid:95d6b6de-2da2-4569-9707-0e45b1d9c38d
URL:https://mitchmcvicker.com/concerts/gig-3170/
DTSTART;VALUE=DATE:20010121
SUMMARY:Playhouse Community Outreach Center
LOCATION:Playhouse Community Outreach Center\, Anderson\, SC
END:VEVENT
END:VCALENDAR
