BEGIN:VCALENDAR
VERSION:2.0
PRODID:-//AudioTheme 2.3.8
BEGIN:VEVENT
UID:urn:uuid:c692fc66-0b87-465b-b5a8-79c0224b571f
URL:https://mitchmcvicker.com/concerts/gig-3169/
DTSTART;VALUE=DATE:20010119
SUMMARY:New City Cafe
LOCATION:New City Cafe\, Knoxville\, TN
END:VEVENT
END:VCALENDAR
