BEGIN:VCALENDAR
VERSION:2.0
PRODID:-//AudioTheme 2.3.8
BEGIN:VEVENT
UID:urn:uuid:690ee53e-8b8b-4911-a09b-6072c705ded9
URL:https://mitchmcvicker.com/concerts/gig-3167/
DTSTART;VALUE=DATE:20010113
SUMMARY:Milligan College-Seeger Chapel (2 concerts on 13th and 14th)
LOCATION:Milligan College-Seeger Chapel (2 concerts on 13th and 14th)\, Elizabethton\, TN
END:VEVENT
END:VCALENDAR
