BEGIN:VCALENDAR
VERSION:2.0
PRODID:-//AudioTheme 2.3.8
BEGIN:VEVENT
UID:urn:uuid:55e3f265-c124-4175-bd27-68943cff5048
URL:https://mitchmcvicker.com/concerts/gig-3165/
DTSTART;VALUE=DATE:20010107
SUMMARY:Rolling Meadows Baptist Church
LOCATION:Rolling Meadows Baptist Church\, Rolling Meadows\, IL
END:VEVENT
END:VCALENDAR
