BEGIN:VCALENDAR
VERSION:2.0
PRODID:-//AudioTheme 2.3.8
BEGIN:VEVENT
UID:urn:uuid:fd6b283d-c977-4476-ab74-f50daf0f65bd
URL:https://mitchmcvicker.com/concerts/gig-3162/
DTSTART;VALUE=DATE:20021231
SUMMARY:Jesus Alive Coffeehouse-"Chrisitan New Year's Eve Bash"
LOCATION:Jesus Alive Coffeehouse-"Chrisitan New Year's Eve Bash"\, Bensenville (Chicago)\, IL
END:VEVENT
END:VCALENDAR
