BEGIN:VCALENDAR
VERSION:2.0
PRODID:-//AudioTheme 2.3.8
BEGIN:VEVENT
UID:urn:uuid:441cedc5-783a-4831-bac4-454f5133a2d5
URL:https://mitchmcvicker.com/concerts/gig-3160/
DTSTART;VALUE=DATE:20021208
SUMMARY:Christ Lutheran Church
LOCATION:Christ Lutheran Church\, Oshkosh\, WI
END:VEVENT
END:VCALENDAR
