BEGIN:VCALENDAR
VERSION:2.0
PRODID:-//AudioTheme 2.3.8
BEGIN:VEVENT
UID:urn:uuid:0b3601b1-4b9d-4ba9-b172-a7a88bdb6a43
URL:https://mitchmcvicker.com/concerts/gig-3159/
DTSTART;VALUE=DATE:20021207
SUMMARY:Cup O'Joy Coffeehouse
LOCATION:Cup O'Joy Coffeehouse\, Green Bay\, WI
END:VEVENT
END:VCALENDAR
