BEGIN:VCALENDAR
VERSION:2.0
PRODID:-//AudioTheme 2.3.8
BEGIN:VEVENT
UID:urn:uuid:52f957e2-12e0-459a-a6da-dcd36391ad1e
URL:https://mitchmcvicker.com/concerts/gig-3157/
DTSTART;VALUE=DATE:20021205
SUMMARY:Son Ridge Church
LOCATION:Son Ridge Church\, Eau Claire\, WI
END:VEVENT
END:VCALENDAR
