BEGIN:VCALENDAR
VERSION:2.0
PRODID:-//AudioTheme 2.3.8
BEGIN:VEVENT
UID:urn:uuid:20f1ea3e-5caa-4800-b633-eb82ae2bd0ae
URL:https://mitchmcvicker.com/concerts/gig-3155/
DTSTART;VALUE=DATE:20021122
SUMMARY:Comfort Zone Coffeehouse
LOCATION:Comfort Zone Coffeehouse\, Plainfield\, IN
END:VEVENT
END:VCALENDAR
