BEGIN:VCALENDAR
VERSION:2.0
PRODID:-//AudioTheme 2.3.8
BEGIN:VEVENT
UID:urn:uuid:d0c09b1d-d83d-45fe-b56d-761fec6c43ec
URL:https://mitchmcvicker.com/concerts/gig-3153/
DTSTART;VALUE=DATE:20021116
SUMMARY:Adam's Farm Community Church
LOCATION:Adam's Farm Community Church\, Jamestown\, NC
END:VEVENT
END:VCALENDAR
