BEGIN:VCALENDAR
VERSION:2.0
PRODID:-//AudioTheme 2.3.8
BEGIN:VEVENT
UID:urn:uuid:8be7e078-22f9-4ced-9192-2a98521da2e4
URL:https://mitchmcvicker.com/concerts/gig-3151/
DTSTART;VALUE=DATE:20021110
SUMMARY:First Southern Baptist Church
LOCATION:First Southern Baptist Church\, Williamsport\, PA
END:VEVENT
END:VCALENDAR
