BEGIN:VCALENDAR
VERSION:2.0
PRODID:-//AudioTheme 2.3.8
BEGIN:VEVENT
UID:urn:uuid:44467890-df8d-405c-a3bd-e7413c7e709b
URL:https://mitchmcvicker.com/concerts/gig-3149/
DTSTART;VALUE=DATE:20021109
SUMMARY:Bethany Church of the Nazarene
LOCATION:Bethany Church of the Nazarene\, Harrisburg\, PA
END:VEVENT
END:VCALENDAR
