BEGIN:VCALENDAR
VERSION:2.0
PRODID:-//AudioTheme 2.3.8
BEGIN:VEVENT
UID:urn:uuid:57c86f98-ac7a-44f9-be07-90e7217c36dd
URL:https://mitchmcvicker.com/concerts/gig-3147/
DTSTART;VALUE=DATE:20021108
SUMMARY:Abundant Life Assembly of God
LOCATION:Abundant Life Assembly of God\, Marion\, OH
END:VEVENT
END:VCALENDAR
