BEGIN:VCALENDAR
VERSION:2.0
PRODID:-//AudioTheme 2.3.8
BEGIN:VEVENT
UID:urn:uuid:17829fda-d42a-498e-b4a6-7aa3d14b419b
URL:https://mitchmcvicker.com/concerts/gig-3145/
DTSTART;VALUE=DATE:20021107
SUMMARY:Indiana University Christian Student Fellowship
LOCATION:Indiana University Christian Student Fellowship\, Bloomington\, IN
END:VEVENT
END:VCALENDAR
