BEGIN:VCALENDAR
VERSION:2.0
PRODID:-//AudioTheme 2.3.8
BEGIN:VEVENT
UID:urn:uuid:04815b27-c6ae-494a-bbd5-b2f3f2b5cc01
URL:https://mitchmcvicker.com/concerts/gig-3137/
DTSTART;VALUE=DATE:20021102
SUMMARY:First Baptist Church
LOCATION:First Baptist Church\, St. Charles\, MO
END:VEVENT
END:VCALENDAR
