BEGIN:VCALENDAR
VERSION:2.0
PRODID:-//AudioTheme 2.3.8
BEGIN:VEVENT
UID:urn:uuid:d3b9fef0-7c2f-4c64-b7a2-edbb86a5d6ef
URL:https://mitchmcvicker.com/concerts/gig-3133/
DTSTART;VALUE=DATE:20021027
SUMMARY:First Baptist Church of Los Alamos
LOCATION:First Baptist Church of Los Alamos\, Los Alamos\, NM
END:VEVENT
END:VCALENDAR
