BEGIN:VCALENDAR
VERSION:2.0
PRODID:-//AudioTheme 2.3.8
BEGIN:VEVENT
UID:urn:uuid:3a9a6dc7-fb32-4a70-a54a-8b0cfa1afad7
URL:https://mitchmcvicker.com/concerts/gig-3131/
DTSTART;VALUE=DATE:20021026
SUMMARY:Dodge City Civic Center-with Ray Boltz
LOCATION:Dodge City Civic Center-with Ray Boltz\, Dodge City\, KS
END:VEVENT
END:VCALENDAR
