BEGIN:VCALENDAR
VERSION:2.0
PRODID:-//AudioTheme 2.3.8
BEGIN:VEVENT
UID:urn:uuid:d1b87597-f975-4da7-a569-c533fa04ab67
URL:https://mitchmcvicker.com/concerts/gig-3129/
DTSTART;VALUE=DATE:20021025
SUMMARY:Hutchins Memorial Auditorium-with Ray Boltz
LOCATION:Hutchins Memorial Auditorium-with Ray Boltz\, Ponca City\, OK
END:VEVENT
END:VCALENDAR
