BEGIN:VCALENDAR
VERSION:2.0
PRODID:-//AudioTheme 2.3.8
BEGIN:VEVENT
UID:urn:uuid:f3351762-923e-46c4-acbe-1b0c16058d68
URL:https://mitchmcvicker.com/concerts/gig-3127/
DTSTART;VALUE=DATE:20021024
SUMMARY:First Family Church-with Ray Boltz
LOCATION:First Family Church-with Ray Boltz\, Overland Park\, KS
END:VEVENT
END:VCALENDAR
