BEGIN:VCALENDAR
VERSION:2.0
PRODID:-//AudioTheme 2.3.8
BEGIN:VEVENT
UID:urn:uuid:b0d1698e-6c3c-4b4d-b370-667fd03026ce
URL:https://mitchmcvicker.com/concerts/gig-3125/
DTSTART;VALUE=DATE:20021019
SUMMARY:Seekers Coffeehouse-"Seekers On The Border"
LOCATION:Seekers Coffeehouse-"Seekers On The Border"\, Dyer\, IN
END:VEVENT
END:VCALENDAR
