BEGIN:VCALENDAR
VERSION:2.0
PRODID:-//AudioTheme 2.3.8
BEGIN:VEVENT
UID:urn:uuid:48be82c2-073d-4f7b-bbac-e71196687976
URL:https://mitchmcvicker.com/concerts/gig-3123/
DTSTART;VALUE=DATE:20021018
SUMMARY:First Church of the Brethren
LOCATION:First Church of the Brethren\, Peoria\, IL
END:VEVENT
END:VCALENDAR
