BEGIN:VCALENDAR
VERSION:2.0
PRODID:-//AudioTheme 2.3.8
BEGIN:VEVENT
UID:urn:uuid:638d96eb-d088-4ae9-9730-87cda84686da
URL:https://mitchmcvicker.com/concerts/gig-3121/
DTSTART;VALUE=DATE:20021017
SUMMARY:Western Illinois University Union
LOCATION:Western Illinois University Union\, Macomb\, IL
END:VEVENT
END:VCALENDAR
