BEGIN:VCALENDAR
VERSION:2.0
PRODID:-//AudioTheme 2.3.8
BEGIN:VEVENT
UID:urn:uuid:40720546-7f78-4488-af27-98ea8c244735
URL:https://mitchmcvicker.com/concerts/gig-3118/
DTSTART;VALUE=DATE:20021010
SUMMARY:Hillcrest Baptist Church
LOCATION:Hillcrest Baptist Church\, Sioux Falls\, SD
END:VEVENT
END:VCALENDAR
