BEGIN:VCALENDAR
VERSION:2.0
PRODID:-//AudioTheme 2.3.8
BEGIN:VEVENT
UID:urn:uuid:41ee208a-920c-4a9e-b8dc-e89a5d9d75da
URL:https://mitchmcvicker.com/concerts/gig-3113/
DTSTART;VALUE=DATE:20021006
SUMMARY:Westridge Community Church
LOCATION:Westridge Community Church\, Elgin\, IL
END:VEVENT
END:VCALENDAR
