BEGIN:VCALENDAR
VERSION:2.0
PRODID:-//AudioTheme 2.3.8
BEGIN:VEVENT
UID:urn:uuid:91bade3d-3317-4917-bc22-73c69b2d843d
URL:https://mitchmcvicker.com/concerts/gig-3112/
DTSTART;VALUE=DATE:20021005
SUMMARY:Lighthouse Cafe
LOCATION:Lighthouse Cafe\, Rockford\, IL
END:VEVENT
END:VCALENDAR
