BEGIN:VCALENDAR
VERSION:2.0
PRODID:-//AudioTheme 2.3.8
BEGIN:VEVENT
UID:urn:uuid:1711291d-e8ee-4100-bd62-21281f1c13cd
URL:https://mitchmcvicker.com/concerts/gig-3110/
DTSTART;VALUE=DATE:20021004
SUMMARY:The Unity Center
LOCATION:The Unity Center\, Cedar Falls\, IA
END:VEVENT
END:VCALENDAR
