BEGIN:VCALENDAR
VERSION:2.0
PRODID:-//AudioTheme 2.3.8
BEGIN:VEVENT
UID:urn:uuid:8532c3c8-9f7d-4312-b691-506df0dfe1cb
URL:https://mitchmcvicker.com/concerts/gig-3107/
DTSTART;VALUE=DATE:20020928
SUMMARY:Bethel Bible Church-Benefit for Living Alternatives and East Texas Food Bank
LOCATION:Bethel Bible Church-Benefit for Living Alternatives and East Texas Food Bank\, Tyler\, TX
END:VEVENT
END:VCALENDAR
