BEGIN:VCALENDAR
VERSION:2.0
PRODID:-//AudioTheme 2.3.8
BEGIN:VEVENT
UID:urn:uuid:4f199bcc-a4e7-45de-ba48-cb6331b6c061
URL:https://mitchmcvicker.com/concerts/gig-3105/
DTSTART;VALUE=DATE:20020927
SUMMARY:McKinney Community Center
LOCATION:McKinney Community Center\, McKinney\, TX
END:VEVENT
END:VCALENDAR
