BEGIN:VCALENDAR
VERSION:2.0
PRODID:-//AudioTheme 2.3.8
BEGIN:VEVENT
UID:urn:uuid:640df6ca-f03e-4b90-aabd-3cd36f895c59
URL:https://mitchmcvicker.com/concerts/gig-3101/
DTSTART;VALUE=DATE:20020922
SUMMARY:First Evangelical Free Church
LOCATION:First Evangelical Free Church\, Austin\, TX
END:VEVENT
END:VCALENDAR
