BEGIN:VCALENDAR
VERSION:2.0
PRODID:-//AudioTheme 2.3.8
BEGIN:VEVENT
UID:urn:uuid:8a0b8d01-ac18-42ab-9ff5-6c6045d4b2cc
URL:https://mitchmcvicker.com/concerts/gig-3099/
DTSTART;VALUE=DATE:20020921
SUMMARY:2002 Singer/Songwriter Weekend/Alamo Heights United Methodist Church
LOCATION:2002 Singer/Songwriter Weekend/Alamo Heights United Methodist Church\, San Antonio\, TX
END:VEVENT
END:VCALENDAR
