BEGIN:VCALENDAR
VERSION:2.0
PRODID:-//AudioTheme 2.3.8
BEGIN:VEVENT
UID:urn:uuid:c05881a3-8c4b-40f3-b760-0159ae98f965
URL:https://mitchmcvicker.com/concerts/gig-3097/
DTSTART;VALUE=DATE:20020920
SUMMARY:Tulsa City Limits
LOCATION:Tulsa City Limits\, Tulsa\, OK
END:VEVENT
END:VCALENDAR
