BEGIN:VCALENDAR
VERSION:2.0
PRODID:-//AudioTheme 2.3.8
BEGIN:VEVENT
UID:urn:uuid:363f2246-d083-43fb-92d8-d9cce7674cab
URL:https://mitchmcvicker.com/concerts/gig-3095/
DTSTART;VALUE=DATE:20020919
SUMMARY:Woodlawn United Methodist Church-"Without Looking Down" CD Release Concert
LOCATION:Woodlawn United Methodist Church-"Without Looking Down" CD Release Concert\, Derby\, KS
END:VEVENT
END:VCALENDAR
