BEGIN:VCALENDAR
VERSION:2.0
PRODID:-//AudioTheme 2.3.8
BEGIN:VEVENT
UID:urn:uuid:14d7252b-05ad-485f-80b7-a9b13549215a
URL:https://mitchmcvicker.com/concerts/gig-3093/
DTSTART;VALUE=DATE:20020913
SUMMARY:The Lighthouse Coffeehouse-Woodmont Hills Church-A Tribute to Rich Mullins
LOCATION:The Lighthouse Coffeehouse-Woodmont Hills Church-A Tribute to Rich Mullins\, Nashville\, TN
END:VEVENT
END:VCALENDAR
