BEGIN:VCALENDAR
VERSION:2.0
PRODID:-//AudioTheme 2.3.8
BEGIN:VEVENT
UID:urn:uuid:932dc415-7020-487d-b2f4-424a16e6f13e
URL:https://mitchmcvicker.com/concerts/gig-3091/
DTSTART;VALUE=DATE:20020907
SUMMARY:Lifestock-Oil Ranch-part of Rich Mullins Tribute
LOCATION:Lifestock-Oil Ranch-part of Rich Mullins Tribute\, Hockey\, TX
END:VEVENT
END:VCALENDAR
