BEGIN:VCALENDAR
VERSION:2.0
PRODID:-//AudioTheme 2.3.8
BEGIN:VEVENT
UID:urn:uuid:e3d4fc72-a86a-4a1b-81f6-b45a7334ebe9
URL:https://mitchmcvicker.com/concerts/gig-3089/
DTSTART;VALUE=DATE:20020831
SUMMARY:Prison Ministry
LOCATION:Prison Ministry\, Lincoln\, IL
END:VEVENT
END:VCALENDAR
