BEGIN:VCALENDAR
VERSION:2.0
PRODID:-//AudioTheme 2.3.8
BEGIN:VEVENT
UID:urn:uuid:e5957e50-7db1-4d09-8a0f-ee814b32ad9a
URL:https://mitchmcvicker.com/concerts/gig-3087/
DTSTART;VALUE=DATE:20020830
SUMMARY:The Firehouse
LOCATION:The Firehouse\, Columbia\, MO
END:VEVENT
END:VCALENDAR
