BEGIN:VCALENDAR
VERSION:2.0
PRODID:-//AudioTheme 2.3.8
BEGIN:VEVENT
UID:urn:uuid:6b47a612-e464-4169-8f16-8c5c61c9e422
URL:https://mitchmcvicker.com/concerts/gig-3084/
DTSTART;VALUE=DATE:20020828
SUMMARY:First Baptist Church
LOCATION:First Baptist Church\, Jonesboro\, AK
END:VEVENT
END:VCALENDAR
