BEGIN:VCALENDAR
VERSION:2.0
PRODID:-//AudioTheme 2.3.8
BEGIN:VEVENT
UID:urn:uuid:89a23826-894a-4f83-a114-efbca5979305
URL:https://mitchmcvicker.com/concerts/gig-3080/
DTSTART;VALUE=DATE:20020823
SUMMARY:Eugene's Rock Cafe
LOCATION:Eugene's Rock Cafe\, Tempe\, AZ
END:VEVENT
END:VCALENDAR
