BEGIN:VCALENDAR
VERSION:2.0
PRODID:-//AudioTheme 2.3.8
BEGIN:VEVENT
UID:urn:uuid:19b785a4-9d5a-4e93-8ccd-b95d165bb4a1
URL:https://mitchmcvicker.com/concerts/gig-3078/
DTSTART;VALUE=DATE:20020818
SUMMARY:Grace Community Church
LOCATION:Grace Community Church\, Tempe\, AZ
END:VEVENT
END:VCALENDAR
