BEGIN:VCALENDAR
VERSION:2.0
PRODID:-//AudioTheme 2.3.8
BEGIN:VEVENT
UID:urn:uuid:4699f52a-9bfd-43f2-b696-97681b69dd7d
URL:https://mitchmcvicker.com/concerts/gig-3072/
DTSTART;VALUE=DATE:20020720
SUMMARY:Spirit Fest Midwest Festival
LOCATION:Spirit Fest Midwest Festival\, Detroit Lakes\, WI
END:VEVENT
END:VCALENDAR
