BEGIN:VCALENDAR
VERSION:2.0
PRODID:-//AudioTheme 2.3.8
BEGIN:VEVENT
UID:urn:uuid:5345acd7-18bc-4f53-8ed8-58e065f4cc3a
URL:https://mitchmcvicker.com/concerts/gig-3071/
DTSTART;VALUE=DATE:20020712
SUMMARY:LiFest-Sunnyview Fairgrounds
LOCATION:LiFest-Sunnyview Fairgrounds\, OshKosh\, WI
END:VEVENT
END:VCALENDAR
