BEGIN:VCALENDAR
VERSION:2.0
PRODID:-//AudioTheme 2.3.8
BEGIN:VEVENT
UID:urn:uuid:22357c89-a3ac-4b7c-b3ed-95dc763ad16f
URL:https://mitchmcvicker.com/concerts/gig-3069/
DTSTART;VALUE=DATE:20020704
SUMMARY:North Park Mall
LOCATION:North Park Mall\, Ridgeland\, MS
END:VEVENT
END:VCALENDAR
